BEGIN:VCALENDAR
VERSION:2.0
PRODID:icalendar-ruby
CALSCALE:GREGORIAN
METHOD:PUBLISH
BEGIN:VEVENT
DTSTAMP:20260421T145503Z
UID:11-202567@miraclecitycollective.org
DTSTART:20260602T013000Z
DTEND:20260602T030000Z
CLASS:PUBLIC
CREATED:20260420T111414
DESCRIPTION:
LAST-MODIFIED:20260420T111414
LOCATION:The Grove Church 
SUMMARY:Practicing the Way Course
URL;VALUE=URI:https://www.miraclecitycollective.org/events/practicing-the-w
 ay-course/2026-06-01
ATTACH;FILENAME=BLANK4x.png;FMTTYPE=image/png:https://dq5pwpg1q8ru0.cloudfr
 ont.net/2026/04/20/18/14/13/a0fcd7f7-81dc-4f25-999c-8af79398c3db/BLANK4x.p
 ng
END:VEVENT
END:VCALENDAR
