BEGIN:VCALENDAR
VERSION:2.0
PRODID:icalendar-ruby
CALSCALE:GREGORIAN
METHOD:PUBLISH
BEGIN:VEVENT
DTSTAMP:20260421T105327Z
UID:8-202682@miraclecitycollective.org
DTSTART:20260524T170000Z
DTEND:20260524T183000Z
CLASS:PUBLIC
CREATED:20260420T181342
DESCRIPTION:
LAST-MODIFIED:20260420T181342
LOCATION:South Lake Elementary School
SUMMARY:Sunday Gathering
URL;VALUE=URI:https://www.miraclecitycollective.org/events/sunday-gathering
 /2026-05-24
END:VEVENT
END:VCALENDAR
