BEGIN:VCALENDAR
VERSION:2.0
PRODID:icalendar-ruby
CALSCALE:GREGORIAN
METHOD:PUBLISH
BEGIN:VEVENT
DTSTAMP:20260421T142241Z
UID:8-202728@miraclecitycollective.org
DTSTART:20260531T170000Z
DTEND:20260531T183000Z
CLASS:PUBLIC
CREATED:20260421T052100
DESCRIPTION:
LAST-MODIFIED:20260421T052100
LOCATION:South Lake Elementary School
SUMMARY:Sunday Gathering
URL;VALUE=URI:https://www.miraclecitycollective.org/events/sunday-gathering
 /2026-05-31
END:VEVENT
END:VCALENDAR
