BEGIN:VCALENDAR
VERSION:2.0
PRODID:icalendar-ruby
CALSCALE:GREGORIAN
METHOD:PUBLISH
BEGIN:VEVENT
DTSTAMP:20260421T182241Z
UID:8-202819@miraclecitycollective.org
DTSTART:20260607T170000Z
DTEND:20260607T183000Z
CLASS:PUBLIC
CREATED:20260421T103642
DESCRIPTION:
LAST-MODIFIED:20260421T103642
LOCATION:South Lake Elementary School
SUMMARY:Sunday Gathering
URL;VALUE=URI:https://www.miraclecitycollective.org/events/sunday-gathering
 /2026-06-07
END:VEVENT
END:VCALENDAR
