BEGIN:VCALENDAR
VERSION:2.0
PRODID:icalendar-ruby
CALSCALE:GREGORIAN
METHOD:PUBLISH
BEGIN:VEVENT
DTSTAMP:20260423T112717Z
UID:8-203225@miraclecitycollective.org
DTSTART:20260614T170000Z
DTEND:20260614T183000Z
CLASS:PUBLIC
CREATED:20260422T200817
DESCRIPTION:
LAST-MODIFIED:20260422T200817
LOCATION:South Lake Elementary School
SUMMARY:Sunday Gathering
URL;VALUE=URI:https://www.miraclecitycollective.org/events/sunday-gathering
 /2026-06-14
END:VEVENT
END:VCALENDAR
