BEGIN:VCALENDAR
VERSION:2.0
PRODID:icalendar-ruby
CALSCALE:GREGORIAN
METHOD:PUBLISH
BEGIN:VEVENT
DTSTAMP:20260422T022431Z
UID:8-202956@miraclecitycollective.org
DTSTART:20260621T170000Z
DTEND:20260621T183000Z
CLASS:PUBLIC
CREATED:20260421T182925
DESCRIPTION:
LAST-MODIFIED:20260421T182925
LOCATION:South Lake Elementary School
SUMMARY:Sunday Gathering
URL;VALUE=URI:https://www.miraclecitycollective.org/events/sunday-gathering
 /2026-06-21
END:VEVENT
END:VCALENDAR
