BEGIN:VCALENDAR
VERSION:2.0
PRODID:icalendar-ruby
CALSCALE:GREGORIAN
METHOD:PUBLISH
BEGIN:VEVENT
DTSTAMP:20260422T141812Z
UID:8-203004@miraclecitycollective.org
DTSTART:20260712T170000Z
DTEND:20260712T183000Z
CLASS:PUBLIC
CREATED:20260422T053711
DESCRIPTION:
LAST-MODIFIED:20260422T053711
LOCATION:South Lake Elementary School
SUMMARY:Sunday Gathering
URL;VALUE=URI:https://www.miraclecitycollective.org/events/sunday-gathering
 /2026-07-12
END:VEVENT
END:VCALENDAR
