BEGIN:VCALENDAR
VERSION:2.0
PRODID:icalendar-ruby
CALSCALE:GREGORIAN
METHOD:PUBLISH
BEGIN:VEVENT
DTSTAMP:20260422T175733Z
UID:8-203050@miraclecitycollective.org
DTSTART:20260719T170000Z
DTEND:20260719T183000Z
CLASS:PUBLIC
CREATED:20260422T083227
DESCRIPTION:
LAST-MODIFIED:20260422T083227
LOCATION:South Lake Elementary School
SUMMARY:Sunday Gathering
URL;VALUE=URI:https://www.miraclecitycollective.org/events/sunday-gathering
 /2026-07-19
END:VEVENT
END:VCALENDAR
