BEGIN:VCALENDAR
VERSION:2.0
PRODID:icalendar-ruby
CALSCALE:GREGORIAN
METHOD:PUBLISH
BEGIN:VEVENT
DTSTAMP:20260422T214736Z
UID:8-203141@miraclecitycollective.org
DTSTART:20260726T170000Z
DTEND:20260726T183000Z
CLASS:PUBLIC
CREATED:20260422T142225
DESCRIPTION:
LAST-MODIFIED:20260422T142225
LOCATION:South Lake Elementary School
SUMMARY:Sunday Gathering
URL;VALUE=URI:https://www.miraclecitycollective.org/events/sunday-gathering
 /2026-07-26
END:VEVENT
END:VCALENDAR
