BEGIN:VCALENDAR
VERSION:2.0
PRODID:icalendar-ruby
CALSCALE:GREGORIAN
METHOD:PUBLISH
BEGIN:VEVENT
DTSTAMP:20260423T014204Z
UID:8-203187@miraclecitycollective.org
DTSTART:20260802T170000Z
DTEND:20260802T183000Z
CLASS:PUBLIC
CREATED:20260422T171358
DESCRIPTION:
LAST-MODIFIED:20260422T171358
LOCATION:South Lake Elementary School
SUMMARY:Sunday Gathering
URL;VALUE=URI:https://www.miraclecitycollective.org/events/sunday-gathering
 /2026-08-02
END:VEVENT
END:VCALENDAR
