BEGIN:VCALENDAR
VERSION:2.0
PRODID:icalendar-ruby
CALSCALE:GREGORIAN
METHOD:PUBLISH
BEGIN:VEVENT
DTSTAMP:20260423T061923Z
UID:8-203233@miraclecitycollective.org
DTSTART:20260809T170000Z
DTEND:20260809T183000Z
CLASS:PUBLIC
CREATED:20260422T200817
DESCRIPTION:
LAST-MODIFIED:20260422T200817
LOCATION:South Lake Elementary School
SUMMARY:Sunday Gathering
URL;VALUE=URI:https://www.miraclecitycollective.org/events/sunday-gathering
 /2026-08-09
END:VEVENT
END:VCALENDAR
