BEGIN:VCALENDAR
VERSION:2.0
PRODID:icalendar-ruby
CALSCALE:GREGORIAN
METHOD:PUBLISH
BEGIN:VEVENT
DTSTAMP:20260423T100303Z
UID:8-203234@miraclecitycollective.org
DTSTART:20260816T170000Z
DTEND:20260816T183000Z
CLASS:PUBLIC
CREATED:20260422T200817
DESCRIPTION:
LAST-MODIFIED:20260422T200817
LOCATION:South Lake Elementary School
SUMMARY:Sunday Gathering
URL;VALUE=URI:https://www.miraclecitycollective.org/events/sunday-gathering
 /2026-08-16
END:VEVENT
END:VCALENDAR
