BEGIN:VCALENDAR
VERSION:2.0
PRODID:icalendar-ruby
CALSCALE:GREGORIAN
METHOD:PUBLISH
BEGIN:VEVENT
DTSTAMP:20260423T135002Z
UID:8-203280@miraclecitycollective.org
DTSTART:20260823T170000Z
DTEND:20260823T183000Z
CLASS:PUBLIC
CREATED:20260423T053834
DESCRIPTION:
LAST-MODIFIED:20260423T053834
LOCATION:South Lake Elementary School
SUMMARY:Sunday Gathering
URL;VALUE=URI:https://www.miraclecitycollective.org/events/sunday-gathering
 /2026-08-23
END:VEVENT
END:VCALENDAR
