BEGIN:VCALENDAR
VERSION:2.0
PRODID:icalendar-ruby
CALSCALE:GREGORIAN
METHOD:PUBLISH
BEGIN:VEVENT
DTSTAMP:20260423T211545Z
UID:8-203372@miraclecitycollective.org
DTSTART:20260906T170000Z
DTEND:20260906T183000Z
CLASS:PUBLIC
CREATED:20260423T112752
DESCRIPTION:
LAST-MODIFIED:20260423T112752
LOCATION:South Lake Elementary School
SUMMARY:Sunday Gathering
URL;VALUE=URI:https://www.miraclecitycollective.org/events/sunday-gathering
 /2026-09-06
END:VEVENT
END:VCALENDAR
