BEGIN:VCALENDAR
VERSION:2.0
PRODID:icalendar-ruby
CALSCALE:GREGORIAN
METHOD:PUBLISH
BEGIN:VEVENT
DTSTAMP:20260424T100536Z
UID:8-203514@miraclecitycollective.org
DTSTART:20261025T170000Z
DTEND:20261025T183000Z
CLASS:PUBLIC
CREATED:20260423T201013
DESCRIPTION:
LAST-MODIFIED:20260423T201013
LOCATION:South Lake Elementary School
SUMMARY:Sunday Gathering
URL;VALUE=URI:https://www.miraclecitycollective.org/events/sunday-gathering
 /2026-10-25
END:VEVENT
END:VCALENDAR
